BEGIN:VCALENDAR
BEGIN:VEVENT
SUMMARY:Umweltaktion für die Klassen 4a und 4b (Klimaschutz zu Hause und 
 in der Schule)
DTSTART;VALUE=DATE:20251029
DTEND;VALUE=DATE:20251029
UID:terminkalender-event_1759152812_3599284.html
ORGANIZER:mailto:s_7288@bildung.hessen.de
END:VEVENT
BEGIN:VEVENT
SUMMARY:Buchausstellung
DTSTART:20251108T100000
DTEND:20251108T130000
UID:terminkalender-event_1759152850_32457.html
ORGANIZER:mailto:s_7288@bildung.hessen.de
END:VEVENT
BEGIN:VEVENT
SUMMARY:Weihnachtsferien
DTSTART;VALUE=DATE:20251222
DTEND;VALUE=DATE:20260109
UID:terminkalender-event_1759153894_4327438.html
ORGANIZER:mailto:s_7288@bildung.hessen.de
END:VEVENT
BEGIN:VEVENT
SUMMARY:Zeugnisausgabe Halbjahreszeugnisse
DTSTART;VALUE=DATE:20260130
DTEND;VALUE=DATE:20260130
UID:terminkalender-event_1759152907_7821934.html
ORGANIZER:mailto:s_7288@bildung.hessen.de
END:VEVENT
BEGIN:VEVENT
SUMMARY:Schuleingangstest
DTSTART;VALUE=DATE:20260130
DTEND;VALUE=DATE:20260130
UID:terminkalender-event_1759152929_9585736.html
ORGANIZER:mailto:s_7288@bildung.hessen.de
END:VEVENT
BEGIN:VEVENT
SUMMARY:Elternsprechtag
DTSTART;VALUE=DATE:20260206
DTEND;VALUE=DATE:20260206
UID:terminkalender-event_1759152948_155502.html
ORGANIZER:mailto:s_7288@bildung.hessen.de
END:VEVENT
BEGIN:VEVENT
SUMMARY:Fastnachtsfeier
DTSTART;VALUE=DATE:20260213
DTEND;VALUE=DATE:20260213
UID:terminkalender-event_1759152963_771951.html
ORGANIZER:mailto:s_7288@bildung.hessen.de
END:VEVENT
BEGIN:VEVENT
SUMMARY:Rosenmontag
DTSTART;VALUE=DATE:20260216
DTEND;VALUE=DATE:20260216
UID:terminkalender-event_1759152979_7114844.html
ORGANIZER:mailto:s_7288@bildung.hessen.de
END:VEVENT
BEGIN:VEVENT
SUMMARY:Faschingsdienstag beweglicher Ferientag
DTSTART;VALUE=DATE:20260217
DTEND;VALUE=DATE:20260217
UID:terminkalender-event_1759152994_6295576.html
ORGANIZER:mailto:s_7288@bildung.hessen.de
END:VEVENT
BEGIN:VEVENT
SUMMARY:katholischer Gottesdienst für die Klassen 3 und 4
DTSTART;VALUE=DATE:20260218
DTEND;VALUE=DATE:20260218
UID:terminkalender-event_1759153010_577628.html
ORGANIZER:mailto:s_7288@bildung.hessen.de
END:VEVENT
BEGIN:VEVENT
SUMMARY:Schulkonferenz
DTSTART;VALUE=DATE:20260312
DTEND;VALUE=DATE:20260312
UID:terminkalender-event_1759153025_305672.html
ORGANIZER:mailto:s_7288@bildung.hessen.de
END:VEVENT
BEGIN:VEVENT
SUMMARY:Osterferien
DTSTART;VALUE=DATE:20260330
DTEND;VALUE=DATE:20260410
UID:terminkalender-event_1759153989_942584.html
ORGANIZER:mailto:s_7288@bildung.hessen.de
END:VEVENT
BEGIN:VEVENT
SUMMARY:beweglicher Ferientag nach Christi Himmelfahrt
DTSTART;VALUE=DATE:20260515
DTEND;VALUE=DATE:20260515
UID:terminkalender-event_1759153052_37355.html
ORGANIZER:mailto:s_7288@bildung.hessen.de
END:VEVENT
BEGIN:VEVENT
SUMMARY:Bundesjugendspiele
DTSTART;VALUE=DATE:20260519
DTEND;VALUE=DATE:20260519
UID:terminkalender-event_1759153065_3678823.html
ORGANIZER:mailto:s_7288@bildung.hessen.de
END:VEVENT
BEGIN:VEVENT
SUMMARY:Ausweichtermin Bundesjugendspiele
DTSTART;VALUE=DATE:20260528
DTEND;VALUE=DATE:20260528
UID:terminkalender-event_1759153416_9182985.html
ORGANIZER:mailto:s_7288@bildung.hessen.de
END:VEVENT
BEGIN:VEVENT
SUMMARY:Hauneseelauf
DTSTART;VALUE=DATE:20260603
DTEND;VALUE=DATE:20260603
UID:terminkalender-event_1759153436_1523228.html
ORGANIZER:mailto:s_7288@bildung.hessen.de
END:VEVENT
BEGIN:VEVENT
SUMMARY:beweglicher Ferientag nach Fronleichnam
DTSTART;VALUE=DATE:20260605
DTEND;VALUE=DATE:20260605
UID:terminkalender-event_1759153454_9709597.html
ORGANIZER:mailto:s_7288@bildung.hessen.de
END:VEVENT
BEGIN:VEVENT
SUMMARY:Klassenfahrt 3. Klassen
DTSTART;VALUE=DATE:20260608
DTEND;VALUE=DATE:20260610
UID:terminkalender-event_1759153476_3076017.html
ORGANIZER:mailto:s_7288@bildung.hessen.de
END:VEVENT
BEGIN:VEVENT
SUMMARY:Hessentag Fulda
DTSTART;VALUE=DATE:20260612
DTEND;VALUE=DATE:20260621
UID:terminkalender-event_1759153498_3763278.html
ORGANIZER:mailto:s_7288@bildung.hessen.de
END:VEVENT
BEGIN:VEVENT
SUMMARY:Zeugnisausgabe\, Beginn Sommerferien
DTSTART;VALUE=DATE:20260626
DTEND;VALUE=DATE:20260626
UID:terminkalender-event_1759153535_585165.html
ORGANIZER:mailto:s_7288@bildung.hessen.de
END:VEVENT
END:VCALENDAR
